Package: SGSeq Version: 1.42.1 Command: /home/biocbuild/bbs-3.21-bioc/R/bin/R CMD build --keep-empty-dirs --no-resave-data SGSeq StartedAt: 2025-10-01 19:58:01 -0400 (Wed, 01 Oct 2025) EndedAt: 2025-10-01 20:00:51 -0400 (Wed, 01 Oct 2025) EllapsedTime: 170.2 seconds RetCode: 0 Status: OK PackageFile: SGSeq_1.42.1.tar.gz PackageFileSize: 1.733 MiB