Package: SGSeq Version: 1.42.1 Command: /Library/Frameworks/R.framework/Resources/bin/R CMD check --install=check:SGSeq.install-out.txt --library=/Library/Frameworks/R.framework/Resources/library --no-vignettes --timings SGSeq_1.42.1.tar.gz StartedAt: 2025-09-30 10:11:30 -0400 (Tue, 30 Sep 2025) EndedAt: 2025-09-30 10:31:51 -0400 (Tue, 30 Sep 2025) EllapsedTime: 1220.7 seconds RetCode: 0 Status: OK CheckDir: SGSeq.Rcheck Warnings: 0