Package: SGSeq Version: 1.42.0 Command: /Library/Frameworks/R.framework/Resources/bin/R CMD check --install=check:SGSeq.install-out.txt --library=/Library/Frameworks/R.framework/Resources/library --no-vignettes --timings SGSeq_1.42.0.tar.gz StartedAt: 2025-04-21 23:33:05 -0400 (Mon, 21 Apr 2025) EndedAt: 2025-04-21 23:43:25 -0400 (Mon, 21 Apr 2025) EllapsedTime: 620.8 seconds RetCode: 0 Status: OK CheckDir: SGSeq.Rcheck Warnings: 0