Package: SGSeq Version: 1.42.1 Command: /home/biocbuild/R/R/bin/R CMD check --install=check:SGSeq.install-out.txt --library=/home/biocbuild/R/R/site-library --no-vignettes --timings SGSeq_1.42.1.tar.gz StartedAt: 2025-09-30 14:36:32 -0000 (Tue, 30 Sep 2025) EndedAt: 2025-09-30 14:49:08 -0000 (Tue, 30 Sep 2025) EllapsedTime: 755.9 seconds RetCode: 0 Status: OK CheckDir: SGSeq.Rcheck Warnings: 0