Package: SGSeq Version: 1.42.1 Command: /Library/Frameworks/R.framework/Resources/bin/R CMD build --keep-empty-dirs --no-resave-data SGSeq StartedAt: 2025-09-30 09:19:35 -0400 (Tue, 30 Sep 2025) EndedAt: 2025-09-30 09:22:58 -0400 (Tue, 30 Sep 2025) EllapsedTime: 202.9 seconds RetCode: 0 Status: OK PackageFile: SGSeq_1.42.1.tar.gz PackageFileSize: 1.748 MiB