Package: SGCP Version: 1.8.0 Command: /Library/Frameworks/R.framework/Resources/bin/R CMD INSTALL SGCP StartedAt: 2025-10-09 17:45:46 -0400 (Thu, 09 Oct 2025) EndedAt: 2025-10-09 17:46:53 -0400 (Thu, 09 Oct 2025) EllapsedTime: 66.8 seconds RetCode: 0 Status: OK