Package: SGCP Version: 1.8.0 Command: /Library/Frameworks/R.framework/Resources/bin/R CMD build --keep-empty-dirs --no-resave-data SGCP StartedAt: 2025-10-10 09:46:33 -0400 (Fri, 10 Oct 2025) EndedAt: 2025-10-10 09:48:04 -0400 (Fri, 10 Oct 2025) EllapsedTime: 90.9 seconds RetCode: 1 Status: ERROR PackageFile: None PackageFileSize: NA