Package: SEtools Version: 1.22.0 Command: rm -rf SEtools.buildbin-libdir && mkdir SEtools.buildbin-libdir && E:\biocbuild\bbs-3.21-bioc\R\bin\R.exe CMD INSTALL --build --library=SEtools.buildbin-libdir SEtools_1.22.0.tar.gz StartedAt: 2025-08-15 10:17:45 -0400 (Fri, 15 Aug 2025) EndedAt: 2025-08-15 10:18:31 -0400 (Fri, 15 Aug 2025) EllapsedTime: 46.0 seconds RetCode: 0 Status: OK PackageFile: SEtools_1.22.0.zip PackageFileSize: 351.5 KiB