Package: SETA Version: 1.0.0 Command: /Library/Frameworks/R.framework/Resources/bin/R CMD build --keep-empty-dirs --no-resave-data SETA StartedAt: 2025-11-03 18:46:51 -0500 (Mon, 03 Nov 2025) EndedAt: 2025-11-03 18:48:34 -0500 (Mon, 03 Nov 2025) EllapsedTime: 102.6 seconds RetCode: 0 Status: OK PackageFile: SETA_1.0.0.tar.gz PackageFileSize: 4.924 MiB