Package: SELEX Version: 1.42.0 Command: /home/biocbuild/R/R/bin/R CMD INSTALL SELEX StartedAt: 2025-11-17 21:22:10 -0000 (Mon, 17 Nov 2025) EndedAt: 2025-11-17 21:22:24 -0000 (Mon, 17 Nov 2025) EllapsedTime: 13.8 seconds RetCode: 0 Status: OK