Package: SELEX Version: 1.42.0 Command: /home/biocbuild/R/R/bin/R CMD build --keep-empty-dirs --no-resave-data SELEX StartedAt: 2025-11-18 05:02:04 -0000 (Tue, 18 Nov 2025) EndedAt: 2025-11-18 05:02:32 -0000 (Tue, 18 Nov 2025) EllapsedTime: 28.0 seconds RetCode: 0 Status: OK PackageFile: SELEX_1.42.0.tar.gz PackageFileSize: 4.026 MiB