Package: SELEX Version: 1.41.0 Command: chmod a+r SELEX -R && F:\biocbuild\bbs-3.22-bioc\R\bin\R.exe CMD build --keep-empty-dirs --no-resave-data SELEX StartedAt: 2025-08-14 23:12:51 -0400 (Thu, 14 Aug 2025) EndedAt: 2025-08-14 23:13:41 -0400 (Thu, 14 Aug 2025) EllapsedTime: 50.1 seconds RetCode: 0 Status: OK PackageFile: SELEX_1.41.0.tar.gz PackageFileSize: 4.109 MiB