Package: SELEX Version: 1.41.0 Command: rm -rf SELEX.buildbin-libdir && mkdir SELEX.buildbin-libdir && F:\biocbuild\bbs-3.22-bioc\R\bin\R.exe CMD INSTALL --build --library=SELEX.buildbin-libdir SELEX_1.41.0.tar.gz StartedAt: 2025-08-15 11:17:28 -0400 (Fri, 15 Aug 2025) EndedAt: 2025-08-15 11:17:55 -0400 (Fri, 15 Aug 2025) EllapsedTime: 26.5 seconds RetCode: 0 Status: OK PackageFile: SELEX_1.41.0.zip PackageFileSize: 2.765 MiB