Package: SELEX Version: 1.40.0 Command: /Library/Frameworks/R.framework/Resources/bin/R CMD check --install=check:SELEX.install-out.txt --library=/Library/Frameworks/R.framework/Resources/library --no-vignettes --timings SELEX_1.40.0.tar.gz StartedAt: 2025-09-30 10:02:07 -0400 (Tue, 30 Sep 2025) EndedAt: 2025-09-30 10:05:35 -0400 (Tue, 30 Sep 2025) EllapsedTime: 208.2 seconds RetCode: 0 Status: OK CheckDir: SELEX.Rcheck Warnings: 0