Package: SDAMS Version: 1.28.0 Command: rm -rf SDAMS.buildbin-libdir && mkdir SDAMS.buildbin-libdir && E:\biocbuild\bbs-3.21-bioc\R\bin\R.exe CMD INSTALL --build --library=SDAMS.buildbin-libdir SDAMS_1.28.0.tar.gz StartedAt: 2025-08-15 10:16:20 -0400 (Fri, 15 Aug 2025) EndedAt: 2025-08-15 10:16:56 -0400 (Fri, 15 Aug 2025) EllapsedTime: 36.8 seconds RetCode: 0 Status: OK PackageFile: SDAMS_1.28.0.zip PackageFileSize: 988.8 KiB