Package: SDAMS Version: 1.28.0 Command: /home/biocbuild/bbs-3.21-bioc/R/bin/R CMD check --install=check:SDAMS.install-out.txt --library=/home/biocbuild/bbs-3.21-bioc/R/site-library --timings SDAMS_1.28.0.tar.gz StartedAt: 2025-10-16 03:29:23 -0400 (Thu, 16 Oct 2025) EndedAt: 2025-10-16 03:33:26 -0400 (Thu, 16 Oct 2025) EllapsedTime: 242.3 seconds RetCode: 0 Status: OK CheckDir: SDAMS.Rcheck Warnings: 0