Package: SDAMS Version: 1.28.0 Command: /Library/Frameworks/R.framework/Resources/bin/R CMD check --install=check:SDAMS.install-out.txt --library=/Library/Frameworks/R.framework/Resources/library --no-vignettes --timings SDAMS_1.28.0.tar.gz StartedAt: 2025-04-21 21:35:43 -0400 (Mon, 21 Apr 2025) EndedAt: 2025-04-21 21:37:09 -0400 (Mon, 21 Apr 2025) EllapsedTime: 85.9 seconds RetCode: 0 Status: OK CheckDir: SDAMS.Rcheck Warnings: 0