Package: SCnorm Version: 1.30.1 Command: /home/biocbuild/bbs-3.21-bioc/R/bin/R CMD INSTALL SCnorm StartedAt: 2025-10-15 15:31:51 -0400 (Wed, 15 Oct 2025) EndedAt: 2025-10-15 15:32:17 -0400 (Wed, 15 Oct 2025) EllapsedTime: 26.5 seconds RetCode: 0 Status: OK