Package: SCOPE Version: 1.20.0 Command: /Library/Frameworks/R.framework/Resources/bin/R CMD INSTALL SCOPE StartedAt: 2025-10-13 16:02:44 -0400 (Mon, 13 Oct 2025) EndedAt: 2025-10-13 16:03:59 -0400 (Mon, 13 Oct 2025) EllapsedTime: 75.3 seconds RetCode: 0 Status: OK