Package: SCOPE Version: 1.20.0 Command: /Library/Frameworks/R.framework/Resources/bin/R CMD build --keep-empty-dirs --no-resave-data SCOPE StartedAt: 2025-10-13 22:25:40 -0400 (Mon, 13 Oct 2025) EndedAt: 2025-10-13 22:47:21 -0400 (Mon, 13 Oct 2025) EllapsedTime: 1301.1 seconds RetCode: 0 Status: OK PackageFile: SCOPE_1.20.0.tar.gz PackageFileSize: 391.5 KiB