Package: SCOPE Version: 1.20.0 Command: /home/biocbuild/R/R/bin/R CMD build --keep-empty-dirs --no-resave-data SCOPE StartedAt: 2025-10-14 04:29:46 -0000 (Tue, 14 Oct 2025) EndedAt: 2025-10-14 04:43:26 -0000 (Tue, 14 Oct 2025) EllapsedTime: 820.5 seconds RetCode: 0 Status: OK PackageFile: SCOPE_1.20.0.tar.gz PackageFileSize: 419.7 KiB