Package: SCOPE Version: 1.20.0 Command: /Library/Frameworks/R.framework/Resources/bin/R CMD build --keep-empty-dirs --no-resave-data SCOPE StartedAt: 2025-10-14 08:51:48 -0400 (Tue, 14 Oct 2025) EndedAt: 2025-10-14 09:02:16 -0400 (Tue, 14 Oct 2025) EllapsedTime: 628.0 seconds RetCode: 0 Status: OK PackageFile: SCOPE_1.20.0.tar.gz PackageFileSize: 391.8 KiB