Package: SCFA Version: 1.18.0 Command: /home/biocbuild/R/R/bin/R CMD check --install=check:SCFA.install-out.txt --library=/home/biocbuild/R/R/site-library --no-vignettes --timings SCFA_1.18.0.tar.gz StartedAt: 2025-09-26 15:04:46 -0000 (Fri, 26 Sep 2025) EndedAt: 2025-09-26 15:11:32 -0000 (Fri, 26 Sep 2025) EllapsedTime: 406.3 seconds RetCode: 0 Status: OK CheckDir: SCFA.Rcheck Warnings: 0