Package: SCBN Version: 1.28.0 Command: /home/biocbuild/R/R/bin/R CMD INSTALL SCBN StartedAt: 2025-11-17 21:02:52 -0000 (Mon, 17 Nov 2025) EndedAt: 2025-11-17 21:03:05 -0000 (Mon, 17 Nov 2025) EllapsedTime: 12.9 seconds RetCode: 0 Status: OK