Package: SCArray.sat Version: 1.9.0 Command: /home/biocbuild/R/R/bin/R CMD check --install=check:SCArray.sat.install-out.txt --library=/home/biocbuild/R/R/site-library --no-vignettes --timings SCArray.sat_1.9.0.tar.gz StartedAt: 2025-10-17 13:12:07 -0000 (Fri, 17 Oct 2025) EndedAt: 2025-10-17 13:18:35 -0000 (Fri, 17 Oct 2025) EllapsedTime: 388.4 seconds RetCode: 0 Status: OK CheckDir: SCArray.sat.Rcheck Warnings: 0