Package: SBMLR Version: 2.4.0 Command: rm -rf SBMLR.buildbin-libdir && mkdir SBMLR.buildbin-libdir && /Users/biocbuild/BBS/utils/build-universal.sh SBMLR_2.4.0.tar.gz /Library/Frameworks/R.framework/Resources/bin/R SBMLR.buildbin-libdir StartedAt: 2025-09-26 15:43:09 -0400 (Fri, 26 Sep 2025) EndedAt: 2025-09-26 15:43:49 -0400 (Fri, 26 Sep 2025) EllapsedTime: 40.0 seconds RetCode: 0 Status: OK PackageFile: SBMLR_2.4.0.tgz PackageFileSize: 313.7 KiB