Package: SBMLR Version: 2.4.0 Command: /Library/Frameworks/R.framework/Resources/bin/R CMD INSTALL SBMLR StartedAt: 2025-04-21 15:03:21 -0400 (Mon, 21 Apr 2025) EndedAt: 2025-04-21 15:04:02 -0400 (Mon, 21 Apr 2025) EllapsedTime: 40.7 seconds RetCode: 0 Status: OK