Package: SBMLR Version: 2.4.0 Command: /Library/Frameworks/R.framework/Resources/bin/R CMD build --keep-empty-dirs --no-resave-data SBMLR StartedAt: 2025-04-21 18:16:57 -0400 (Mon, 21 Apr 2025) EndedAt: 2025-04-21 18:17:12 -0400 (Mon, 21 Apr 2025) EllapsedTime: 14.9 seconds RetCode: 0 Status: OK PackageFile: SBMLR_2.4.0.tar.gz PackageFileSize: 274.8 KiB