Package: SBMLR Version: 2.4.0 Command: /Library/Frameworks/R.framework/Resources/bin/R CMD INSTALL SBMLR StartedAt: 2025-09-29 15:13:23 -0400 (Mon, 29 Sep 2025) EndedAt: 2025-09-29 15:13:26 -0400 (Mon, 29 Sep 2025) EllapsedTime: 3.5 seconds RetCode: 0 Status: OK