Package: SBMLR Version: 2.4.0 Command: /Library/Frameworks/R.framework/Resources/bin/R CMD build --keep-empty-dirs --no-resave-data SBMLR StartedAt: 2025-09-30 08:22:04 -0400 (Tue, 30 Sep 2025) EndedAt: 2025-09-30 08:22:19 -0400 (Tue, 30 Sep 2025) EllapsedTime: 14.8 seconds RetCode: 0 Status: OK PackageFile: SBMLR_2.4.0.tar.gz PackageFileSize: 274.9 KiB