Package: SBGNview Version: 1.24.0 Command: /home/biocbuild/R/R/bin/R CMD check --install=check:SBGNview.install-out.txt --library=/home/biocbuild/R/R/site-library --no-vignettes --timings SBGNview_1.24.0.tar.gz StartedAt: 2025-11-14 14:05:30 -0000 (Fri, 14 Nov 2025) EndedAt: 2025-11-14 14:12:25 -0000 (Fri, 14 Nov 2025) EllapsedTime: 414.6 seconds RetCode: 0 Status: OK CheckDir: SBGNview.Rcheck Warnings: 0