Package: SBGNview Version: 1.24.0 Command: rm -rf SBGNview.buildbin-libdir && mkdir SBGNview.buildbin-libdir && /Users/biocbuild/BBS/utils/build-universal.sh SBGNview_1.24.0.tar.gz /Library/Frameworks/R.framework/Resources/bin/R SBGNview.buildbin-libdir StartedAt: 2025-11-04 02:01:40 -0500 (Tue, 04 Nov 2025) EndedAt: 2025-11-04 02:02:36 -0500 (Tue, 04 Nov 2025) EllapsedTime: 55.3 seconds RetCode: 0 Status: OK PackageFile: SBGNview_1.24.0.tgz PackageFileSize: 2.089 MiB