Package: SBGNview Version: 1.24.0 Command: /Library/Frameworks/R.framework/Resources/bin/R CMD check --install=check:SBGNview.install-out.txt --library=/Library/Frameworks/R.framework/Resources/library --no-vignettes --timings SBGNview_1.24.0.tar.gz StartedAt: 2025-11-06 21:51:38 -0500 (Thu, 06 Nov 2025) EndedAt: 2025-11-06 21:53:43 -0500 (Thu, 06 Nov 2025) EllapsedTime: 124.6 seconds RetCode: 0 Status: OK CheckDir: SBGNview.Rcheck Warnings: 0