Package: SBGNview Version: 1.24.0 Command: /Library/Frameworks/R.framework/Resources/bin/R CMD build --keep-empty-dirs --no-resave-data SBGNview StartedAt: 2025-11-04 17:36:39 -0500 (Tue, 04 Nov 2025) EndedAt: 2025-11-04 17:37:40 -0500 (Tue, 04 Nov 2025) EllapsedTime: 60.7 seconds RetCode: 0 Status: OK PackageFile: SBGNview_1.24.0.tar.gz PackageFileSize: 1.422 MiB