Package: SARC Version: 1.8.0 Command: /home/biocbuild/R/R/bin/R CMD INSTALL SARC StartedAt: 2025-11-17 22:11:29 -0000 (Mon, 17 Nov 2025) EndedAt: 2025-11-17 22:12:23 -0000 (Mon, 17 Nov 2025) EllapsedTime: 53.4 seconds RetCode: 0 Status: OK