Package: SARC Version: 1.8.0 Command: /home/biocbuild/R/R/bin/R CMD check --install=check:SARC.install-out.txt --library=/home/biocbuild/R/R/site-library --no-vignettes --timings SARC_1.8.0.tar.gz StartedAt: 2025-11-18 14:36:00 -0000 (Tue, 18 Nov 2025) EndedAt: 2025-11-18 14:43:41 -0000 (Tue, 18 Nov 2025) EllapsedTime: 460.9 seconds RetCode: 1 Status: ERROR CheckDir: SARC.Rcheck Warnings: NA