Package: SANTA Version: 2.46.0 Command: /home/biocbuild/bbs-3.22-bioc/R/bin/R CMD INSTALL SANTA StartedAt: 2025-11-06 15:04:54 -0500 (Thu, 06 Nov 2025) EndedAt: 2025-11-06 15:05:13 -0500 (Thu, 06 Nov 2025) EllapsedTime: 19.2 seconds RetCode: 0 Status: OK