Package: SANTA Version: 2.46.0 Command: /home/biocbuild/bbs-3.22-bioc/R/bin/R CMD build --keep-empty-dirs --no-resave-data --md5 SANTA StartedAt: 2025-11-06 19:47:08 -0500 (Thu, 06 Nov 2025) EndedAt: 2025-11-06 19:47:17 -0500 (Thu, 06 Nov 2025) EllapsedTime: 9.0 seconds RetCode: 0 Status: OK PackageFile: SANTA_2.46.0.tar.gz PackageFileSize: 4.374 MiB