Package: SAIGEgds Version: 2.8.0 Command: chmod a+r SAIGEgds -R && E:\biocbuild\bbs-3.21-bioc\R\bin\R.exe CMD build --keep-empty-dirs --no-resave-data SAIGEgds StartedAt: 2025-08-14 21:55:51 -0400 (Thu, 14 Aug 2025) EndedAt: 2025-08-14 21:58:29 -0400 (Thu, 14 Aug 2025) EllapsedTime: 158.9 seconds RetCode: 0 Status: OK PackageFile: SAIGEgds_2.8.0.tar.gz PackageFileSize: 1.858 MiB