Package: S4Vectors Version: 0.46.0 Command: /Library/Frameworks/R.framework/Resources/bin/R CMD INSTALL S4Vectors StartedAt: 2025-10-09 15:32:25 -0400 (Thu, 09 Oct 2025) EndedAt: 2025-10-09 15:32:52 -0400 (Thu, 09 Oct 2025) EllapsedTime: 27.8 seconds RetCode: 0 Status: OK