Package: S4Vectors Version: 0.46.0 Command: /Library/Frameworks/R.framework/Resources/bin/R CMD build --keep-empty-dirs --no-resave-data S4Vectors StartedAt: 2025-10-10 08:42:06 -0400 (Fri, 10 Oct 2025) EndedAt: 2025-10-10 08:43:17 -0400 (Fri, 10 Oct 2025) EllapsedTime: 71.5 seconds RetCode: 0 Status: OK PackageFile: S4Vectors_0.46.0.tar.gz PackageFileSize: 1.002 MiB