Package: S4Arrays Version: 1.8.1 Command: /Library/Frameworks/R.framework/Resources/bin/R CMD build --keep-empty-dirs --no-resave-data S4Arrays StartedAt: 2025-10-13 22:13:44 -0400 (Mon, 13 Oct 2025) EndedAt: 2025-10-13 22:14:36 -0400 (Mon, 13 Oct 2025) EllapsedTime: 51.8 seconds RetCode: 0 Status: OK PackageFile: S4Arrays_1.8.1.tar.gz PackageFileSize: 287.5 KiB