Package: Rsubread Version: 2.23.8 Command: /home/biocbuild/R/R/bin/R CMD check --install=check:Rsubread.install-out.txt --library=/home/biocbuild/R/R/site-library --no-vignettes --timings Rsubread_2.23.8.tar.gz StartedAt: 2025-10-17 13:03:30 -0000 (Fri, 17 Oct 2025) EndedAt: 2025-10-17 13:06:36 -0000 (Fri, 17 Oct 2025) EllapsedTime: 186.3 seconds RetCode: 0 Status: OK CheckDir: Rsubread.Rcheck Warnings: 0