Package: Rsubread Version: 2.24.0 Command: /home/biocbuild/bbs-3.22-bioc/R/bin/R CMD build --keep-empty-dirs --no-resave-data --md5 Rsubread StartedAt: 2025-11-06 19:44:39 -0500 (Thu, 06 Nov 2025) EndedAt: 2025-11-06 19:53:10 -0500 (Thu, 06 Nov 2025) EllapsedTime: 510.5 seconds RetCode: 0 Status: OK PackageFile: Rsubread_2.24.0.tar.gz PackageFileSize: 12.97 MiB