Package: Rsubread Version: 2.22.1 Command: /home/biocbuild/R/R/bin/R CMD INSTALL Rsubread StartedAt: 2025-10-13 20:15:45 -0000 (Mon, 13 Oct 2025) EndedAt: 2025-10-13 20:17:04 -0000 (Mon, 13 Oct 2025) EllapsedTime: 78.4 seconds RetCode: 0 Status: OK