Package: Rsubread Version: 2.22.1 Command: /home/biocbuild/R/R/bin/R CMD check --install=check:Rsubread.install-out.txt --library=/home/biocbuild/R/R/site-library --no-vignettes --timings Rsubread_2.22.1.tar.gz StartedAt: 2025-10-14 13:36:14 -0000 (Tue, 14 Oct 2025) EndedAt: 2025-10-14 13:40:03 -0000 (Tue, 14 Oct 2025) EllapsedTime: 228.3 seconds RetCode: 0 Status: OK CheckDir: Rsubread.Rcheck Warnings: 0