Package: Rsubread Version: 2.22.1 Command: /Library/Frameworks/R.framework/Resources/bin/R CMD check --install=check:Rsubread.install-out.txt --library=/Library/Frameworks/R.framework/Resources/library --no-vignettes --timings Rsubread_2.22.1.tar.gz StartedAt: 2025-10-15 10:33:28 -0400 (Wed, 15 Oct 2025) EndedAt: 2025-10-15 10:48:34 -0400 (Wed, 15 Oct 2025) EllapsedTime: 906.3 seconds RetCode: 0 Status: OK CheckDir: Rsubread.Rcheck Warnings: 0