Package: Rsamtools Version: 2.24.0 Command: E:\biocbuild\bbs-3.21-bioc\R\bin\R.exe CMD check --no-multiarch --install=check:Rsamtools.install-out.txt --library=E:\biocbuild\bbs-3.21-bioc\R\library --no-vignettes --timings Rsamtools_2.24.0.tar.gz StartedAt: 2025-08-15 06:21:12 -0400 (Fri, 15 Aug 2025) EndedAt: 2025-08-15 06:26:00 -0400 (Fri, 15 Aug 2025) EllapsedTime: 288.1 seconds RetCode: 0 Status: WARNINGS CheckDir: Rsamtools.Rcheck Warnings: 1