Package: Rsamtools Version: 2.24.0 Command: rm -rf Rsamtools.buildbin-libdir && mkdir Rsamtools.buildbin-libdir && E:\biocbuild\bbs-3.21-bioc\R\bin\R.exe CMD INSTALL --build --library=Rsamtools.buildbin-libdir Rsamtools_2.24.0.tar.gz StartedAt: 2025-08-15 10:09:45 -0400 (Fri, 15 Aug 2025) EndedAt: 2025-08-15 10:13:07 -0400 (Fri, 15 Aug 2025) EllapsedTime: 201.2 seconds RetCode: 0 Status: OK PackageFile: Rsamtools_2.24.0.zip PackageFileSize: 8.464 MiB