Package: Rsamtools Version: 2.24.1 Command: /Library/Frameworks/R.framework/Resources/bin/R CMD INSTALL Rsamtools StartedAt: 2025-10-13 16:00:21 -0400 (Mon, 13 Oct 2025) EndedAt: 2025-10-13 16:01:08 -0400 (Mon, 13 Oct 2025) EllapsedTime: 46.7 seconds RetCode: 0 Status: OK